BEGIN:VCALENDAR
VERSION:2.0
PRODID:-//Sounds of Africa - ECPv5.3.2.1//NONSGML v1.0//EN
CALSCALE:GREGORIAN
METHOD:PUBLISH
X-WR-CALNAME:Sounds of Africa
X-ORIGINAL-URL:https://www.soundsofafrica.org
X-WR-CALDESC:Events for Sounds of Africa
BEGIN:VTIMEZONE
TZID:Europe/London
BEGIN:DAYLIGHT
TZOFFSETFROM:+0000
TZOFFSETTO:+0100
TZNAME:BST
DTSTART:20210328T010000
END:DAYLIGHT
BEGIN:STANDARD
TZOFFSETFROM:+0100
TZOFFSETTO:+0000
TZNAME:GMT
DTSTART:20211031T010000
END:STANDARD
END:VTIMEZONE
BEGIN:VEVENT
DTSTART;TZID=Europe/London:20210827T190000
DTEND;TZID=Europe/London:20210827T230000
DTSTAMP:20260422T095811
CREATED:20210708T230642Z
LAST-MODIFIED:20210708T230642Z
UID:9814-1630090800-1630105200@www.soundsofafrica.org
SUMMARY:Burna Boy Headline Show at 02 Arena
DESCRIPTION:Burna Boy Headline Show at 02 Arena \nGrammy Award Winner for Best International Artist\, Burna Boy\, announced his O2 Arena Concert. Arguably one of the most prolific artists out of Africa and one of the world’s biggest international artists. \nThe Afrofusion star graced the stage of The O2 arena when he appeared as a guest performer at Wizkid’s Starboy fest in 2019 and now returns for his first-ever headline show on Friday\, 27 August 2021. \nBurna Boy will join the exclusive list of Afrobeats artists ( Wizkid\, Davido) that had their Headline show at 02 Arena. \nClick to purchase Tickets. \nLastly\, stay up to date with all you need to know about African music at SOA\, right here.
URL:https://www.soundsofafrica.org/event/burna-boy-headline-show-at-02-arena/
LOCATION:The O2 Arena\, Peninsula Square\, Greenwich Peninsula\, London\, London\, SE10 0DX\, United Kingdom
CATEGORIES:concert
ATTACH;FMTTYPE=image/png:https://www.soundsofafrica.org/wp-content/uploads/2021/07/screenshot-2021-07-08-at-23.57.50.png
END:VEVENT
END:VCALENDAR