BEGIN:VCALENDAR
VERSION:2.0
PRODID:-//Sounds of Africa - ECPv5.3.2.1//NONSGML v1.0//EN
CALSCALE:GREGORIAN
METHOD:PUBLISH
X-WR-CALNAME:Sounds of Africa
X-ORIGINAL-URL:https://www.soundsofafrica.org
X-WR-CALDESC:Events for Sounds of Africa
BEGIN:VTIMEZONE
TZID:Europe/London
BEGIN:DAYLIGHT
TZOFFSETFROM:+0000
TZOFFSETTO:+0100
TZNAME:BST
DTSTART:20200329T010000
END:DAYLIGHT
BEGIN:STANDARD
TZOFFSETFROM:+0100
TZOFFSETTO:+0000
TZNAME:GMT
DTSTART:20201025T010000
END:STANDARD
END:VTIMEZONE
BEGIN:VEVENT
DTSTART;TZID=Europe/London:20201029T200000
DTEND;TZID=Europe/London:20201030T000000
DTSTAMP:20260420T070217
CREATED:20201029T225023Z
LAST-MODIFIED:20201030T004625Z
UID:8128-1604001600-1604016000@www.soundsofafrica.org
SUMMARY:Black Star Album Live Listening
DESCRIPTION:Black Star Album\n \nThe anticipation is high in Ghana 🇬🇭 with the launch of @kelvynboymusic_ virtual album listening event. \nThere Will Be A Live Listening/Performance Of The Black Star Album Inside Silicon House\, Tesano Accra.  \nIt Is A Strictly Media/Stakeholders Event\, But The Good News Is That You Get To Be Part Of This Great History Right From The Comfort Of Your Homes For Just Ghc 5. \nJump On The Link Below To Be A Part Of This\n \nLink to purchase tickets 🎫 to the BLACK STAR ALBUM LIVE LISTENING 👂: https://boxxticket.com/eventDetails/bleJwyGZ1HZUu5VKCpd7 \nLastly\, stay up to date with all you need to know about African music at SOA\, right here. \nSource: Sakeena @simplysakeena
URL:https://www.soundsofafrica.org/event/black-star-album-live-listening-2/
LOCATION:Silicon House productions\, 6 Sixth Rd\,\, Accra\, Ghana
CATEGORIES:Online Concert
ATTACH;FMTTYPE=image/png:https://www.soundsofafrica.org/wp-content/uploads/2020/10/screenshot-2020-10-29-at-20.44.37.png
END:VEVENT
END:VCALENDAR