BEGIN:VCALENDAR
VERSION:2.0
PRODID:-//Sounds of Africa - ECPv5.3.2.1//NONSGML v1.0//EN
CALSCALE:GREGORIAN
METHOD:PUBLISH
X-WR-CALNAME:Sounds of Africa
X-ORIGINAL-URL:https://www.soundsofafrica.org
X-WR-CALDESC:Events for Sounds of Africa
BEGIN:VTIMEZONE
TZID:Europe/London
BEGIN:DAYLIGHT
TZOFFSETFROM:+0000
TZOFFSETTO:+0100
TZNAME:BST
DTSTART:20190331T010000
END:DAYLIGHT
BEGIN:STANDARD
TZOFFSETFROM:+0100
TZOFFSETTO:+0000
TZNAME:GMT
DTSTART:20191027T010000
END:STANDARD
END:VTIMEZONE
BEGIN:VEVENT
DTSTART;TZID=Europe/London:20191224T180000
DTEND;TZID=Europe/London:20191224T230000
DTSTAMP:20260420T032533
CREATED:20200123T182415Z
LAST-MODIFIED:20200123T182415Z
UID:5828-1577210400-1577228400@www.soundsofafrica.org
SUMMARY:BEZ Live
DESCRIPTION:BEZ Live is set to be a one of a kind musical experience with an electric festival vibe in the park.  Join Bez and other amazing artists in a great atmosphere of lights\, color\, and music lovers dancing and singing into the night. \n\nDate and Time\n\n12/24/2019Time: 18:00:00\n\n\n\nLocation\nMuri Okunola Park\, Victoria Island.Tickets on- www.ariiyatickets.comFor tickets Booking 09086787099\,08182658462
URL:https://www.soundsofafrica.org/event/bez-live-2/
LOCATION:Muri Okunola Park\, Ozumba Mbadiwe Rd\, Eti-Osa\, Lagos\, Nigeria
CATEGORIES:afrobeat,concert
ATTACH;FMTTYPE=image/jpeg:https://www.soundsofafrica.org/wp-content/uploads/2019/10/bez-live-abuja.jpeg
END:VEVENT
END:VCALENDAR