BEGIN:VCALENDAR
VERSION:2.0
PRODID:-//Sounds of Africa - ECPv5.3.2.1//NONSGML v1.0//EN
CALSCALE:GREGORIAN
METHOD:PUBLISH
X-WR-CALNAME:Sounds of Africa
X-ORIGINAL-URL:https://www.soundsofafrica.org
X-WR-CALDESC:Events for Sounds of Africa
BEGIN:VTIMEZONE
TZID:Europe/London
BEGIN:DAYLIGHT
TZOFFSETFROM:+0000
TZOFFSETTO:+0100
TZNAME:BST
DTSTART:20200329T010000
END:DAYLIGHT
BEGIN:STANDARD
TZOFFSETFROM:+0100
TZOFFSETTO:+0000
TZNAME:GMT
DTSTART:20201025T010000
END:STANDARD
END:VTIMEZONE
BEGIN:VEVENT
DTSTART;TZID=Europe/London:20200501T170000
DTEND;TZID=Europe/London:20200503T230000
DTSTAMP:20260422T190459
CREATED:20200213T011646Z
LAST-MODIFIED:20200321T225600Z
UID:6351-1588352400-1588546800@www.soundsofafrica.org
SUMMARY:Beale Street Music Festival 2020 *Postponed*
DESCRIPTION:Beale Street Music Festival 2020 \nThe mission of Memphis in May International Festival is to promote and celebrate Memphis culture\, foster economic growth\, and enhance international awareness through education. \nMemphis in May hosts the city’s largest events like the Beale Street Music Festival and the World Championship Barbecue Cooking Contest. Memphis in May also produces extensive education\, international\, and economic programs for the city. \n\nGenerates more than $149 million in economic impact.\nImproves the quality of life in the region.\nPromotes tourism like no other event in the city.\nDevelops diversity and cultural pluralism.\nRemains Memphis’ largest and most dynamic consumer event time and time again.\n\nMemphis in May International Festival is more than its events. It’s also a 501-C(3) not-for-profit\, community-based organization that contributes to the economic growth of the community\, fosters civic pride\, promotes awareness of Memphis heritage and builds international relationships. \nThis Year\, Memphis in May International Festival is excited to salute the Republic of Ghana! Rich in natural resources\, poignant history\, unique art and music communities\, and friendly people with more than 100 indigenous cultural groups\, Ghana is the seventh African country to be honored in the festival’s forty-four-year history. \nSarkodie & Stonebwoy will be performing at the festival \nBeale Street Music Festival 2020 For more info click here! \nLastly\, stay up to date with all you need to know about African music at SOA\, right here. \n \n 
URL:https://www.soundsofafrica.org/event/beale-street-music-festival-2020/
LOCATION:Tom Lee Park  \, 357 Riverside Dr  Memphis\,\, TN 38103\, United States
CATEGORIES:festival,Postponed
ATTACH;FMTTYPE=image/jpeg:https://www.soundsofafrica.org/wp-content/uploads/2020/02/sarkodie-x-mugeez-r2bees-regular-prod.-by-m.o.g-beatz-e1573544586858.jpg
END:VEVENT
END:VCALENDAR