BEGIN:VCALENDAR
VERSION:2.0
PRODID:-//Sounds of Africa - ECPv5.3.2.1//NONSGML v1.0//EN
CALSCALE:GREGORIAN
METHOD:PUBLISH
X-WR-CALNAME:Sounds of Africa
X-ORIGINAL-URL:https://www.soundsofafrica.org
X-WR-CALDESC:Events for Sounds of Africa
BEGIN:VTIMEZONE
TZID:Europe/London
BEGIN:DAYLIGHT
TZOFFSETFROM:+0000
TZOFFSETTO:+0100
TZNAME:BST
DTSTART:20220327T010000
END:DAYLIGHT
BEGIN:STANDARD
TZOFFSETFROM:+0100
TZOFFSETTO:+0000
TZNAME:GMT
DTSTART:20221030T010000
END:STANDARD
END:VTIMEZONE
BEGIN:VEVENT
DTSTART;TZID=Europe/London:20220503T183000
DTEND;TZID=Europe/London:20220503T230000
DTSTAMP:20260420T010559
CREATED:20220121T013340Z
LAST-MODIFIED:20220206T234324Z
UID:11555-1651602600-1651618800@www.soundsofafrica.org
SUMMARY:ASA Live in Concert
DESCRIPTION:ASA Live in Concert\nNigerian singer-songwriter Asa with multi-platinum selling records\, announced her London concert for 3rd May 2022 at Royal Albert Hall. \nIn her warm Neo-soul\, she combines traditional Yoruba lyrics\, Afrobeat\, soul\, pop\, folk and reggae\, among other influences. \nIn 2010\, she released Beautiful Imperfection after emerging in 2007 and 2019; she released her fourth studio album\, Lucid. \nHer debut album\, released on Naive Records in 2007\, with the lead single\, “Fire on the Mountain”\, took Africa\, Nigeria by storm due to the lyrics of the song\, which reflect the political situation in the country\, received positive review and airplay on radio station throughout Africa and Europe. \nMoreover\, Her songs feature mainly English lyrics\, including Yoruba\, a language spoken in the Western part of Nigeria. \nThe beginning of a new pop and soul music era is here; Asa’s concert shouldn’t be missed. \nAsa Live in London: For more info\, click here! \nLastly\, stay up to date with all you need to know about African music at SOA\, right here.
URL:https://www.soundsofafrica.org/event/asa-live-in-concert/
LOCATION:Royal Albert Hall\, Kensington Gore\, South Kensington\, London\, SW7 2AP\, United Kingdom
CATEGORIES:concert
ATTACH;FMTTYPE=image/jpeg:https://www.soundsofafrica.org/wp-content/uploads/2022/01/img_4040.jpg
END:VEVENT
END:VCALENDAR