BEGIN:VCALENDAR
VERSION:2.0
PRODID:-//Sounds of Africa - ECPv5.3.2.1//NONSGML v1.0//EN
CALSCALE:GREGORIAN
METHOD:PUBLISH
X-WR-CALNAME:Sounds of Africa
X-ORIGINAL-URL:https://www.soundsofafrica.org
X-WR-CALDESC:Events for Sounds of Africa
BEGIN:VTIMEZONE
TZID:Europe/London
BEGIN:DAYLIGHT
TZOFFSETFROM:+0000
TZOFFSETTO:+0100
TZNAME:BST
DTSTART:20230326T010000
END:DAYLIGHT
BEGIN:STANDARD
TZOFFSETFROM:+0100
TZOFFSETTO:+0000
TZNAME:GMT
DTSTART:20231029T010000
END:STANDARD
END:VTIMEZONE
BEGIN:VEVENT
DTSTART;TZID=Europe/London:20230524T183000
DTEND;TZID=Europe/London:20230524T230000
DTSTAMP:20260419T232451
CREATED:20230211T230923Z
LAST-MODIFIED:20230211T230923Z
UID:12978-1684953000-1684969200@www.soundsofafrica.org
SUMMARY:ASA Live in Concert 2023
DESCRIPTION:ASA Live in Concert 2023\nNigerian singer-songwriter Asa with multi-platinum selling records announced her London concert on 24th May 2023 at Royal Albert Hall. \nHer warm Neo-soul combines traditional Yoruba lyrics\, Afrobeat\, soul\, pop\, folk and reggae\, among other influences. \nIn 2010\, she released Beautiful Imperfection after emerging in 2007 and in 2019; she released her fourth studio album\, Lucid. \nHer debut album\, released on Naive Records in 2007\, with the lead single\, “Fire on the Mountain”\, took Africa\, Nigeria by storm due to the lyrics of the song\, which reflect the political situation in the country\, received positive review and airplay on radio station throughout Africa and Europe. \nMoreover\, Her songs feature mainly English lyrics\, including Yoruba\, a language spoken in the Western part of Nigeria. \nThe beginning of a new pop and soul music era is here; Asa’s concert shouldn’t be missed. \nAsa Live in London: For more info\, click here! \nLastly\, stay up to date with all you need to know about African music events at SOA. \nASA Live in Concert 2023\nImages from her live performance at Electric Brixton 2021 \nLondon\, United Kingdom. 3rd October 2021. Asa performs live on stage at Electric Brixton. Photographed by Michael Tubes \nASA 🇳🇬
URL:https://www.soundsofafrica.org/event/asa-live-in-concert-2023/
LOCATION:Royal Albert Hall\, Kensington Gore\, South Kensington\, London\, SW7 2AP\, United Kingdom
CATEGORIES:concert
ATTACH;FMTTYPE=image/png:https://www.soundsofafrica.org/wp-content/uploads/2023/02/screenshot-2023-02-11-at-22.56.39.png
END:VEVENT
END:VCALENDAR