BEGIN:VCALENDAR
VERSION:2.0
PRODID:-//Sounds of Africa - ECPv5.3.2.1//NONSGML v1.0//EN
CALSCALE:GREGORIAN
METHOD:PUBLISH
X-WR-CALNAME:Sounds of Africa
X-ORIGINAL-URL:https://www.soundsofafrica.org
X-WR-CALDESC:Events for Sounds of Africa
BEGIN:VTIMEZONE
TZID:Europe/London
BEGIN:DAYLIGHT
TZOFFSETFROM:+0000
TZOFFSETTO:+0100
TZNAME:BST
DTSTART:20210328T010000
END:DAYLIGHT
BEGIN:STANDARD
TZOFFSETFROM:+0100
TZOFFSETTO:+0000
TZNAME:GMT
DTSTART:20211031T010000
END:STANDARD
END:VTIMEZONE
BEGIN:VEVENT
DTSTART;TZID=Europe/London:20211006T190000
DTEND;TZID=Europe/London:20211006T220000
DTSTAMP:20260420T031221
CREATED:20210709T215309Z
LAST-MODIFIED:20210709T215309Z
UID:9855-1633546800-1633557600@www.soundsofafrica.org
SUMMARY:Asa Live in Birmingham: The Lucid Tour 
DESCRIPTION:Asa Live in Birmingham: The Lucid Tour  \nNigerian singer-songwriter Asa with multi-platinum selling records\, announced her rescheduled London concert to 3rd October 2021 from the original date. \nShe combines elements of traditional Yoruba lyrics\, Afrobeat\, soul\, pop\, folk and reggae\, among other influences\, in her warm Neo-soul. \nIn 2010\, she released Beautiful Imperfection after emerging in 2007 and 2019; she released her fourth studio album\, Lucid. \nHer debut album\, released on Naive Records in 2007\, with the lead single\, “Fire on the Mountain”\, took Africa\, Nigeria by storm due to the lyrics of the song\, which reflect the political situation in the country\, received positive review and airplay on radio station throughout Africa and Europe. \nMoreover\, Her songs feature mainly English lyrics\, including Yoruba\, a language spoken in the Western part of Nigeria. \nThe beginning of a new era of pop and soul music is here; Asa’s concert shouldn’t be missed. \nAsa Live in London: The Lucid Tour For more info\, click here! \nLastly\, stay up to date with all you need to know about African music at SOA\, right here. \nAsa Live in Birmingham: The Lucid Tour \n 
URL:https://www.soundsofafrica.org/event/asa-live-in-birmingham-the-lucid-tour/
LOCATION:O2 Institute Birmingham\, 78 Digbeth\, Birmingham B5 6DY\, Birmingham\, B5 6DY\, United Kingdom
CATEGORIES:concert
ATTACH;FMTTYPE=image/jpeg:https://www.soundsofafrica.org/wp-content/uploads/2019/10/asa-lucid.jpg
END:VEVENT
END:VCALENDAR