BEGIN:VCALENDAR
VERSION:2.0
PRODID:-//Sounds of Africa - ECPv5.3.2.1//NONSGML v1.0//EN
CALSCALE:GREGORIAN
METHOD:PUBLISH
X-WR-CALNAME:Sounds of Africa
X-ORIGINAL-URL:https://www.soundsofafrica.org
X-WR-CALDESC:Events for Sounds of Africa
BEGIN:VTIMEZONE
TZID:Europe/London
BEGIN:DAYLIGHT
TZOFFSETFROM:+0000
TZOFFSETTO:+0100
TZNAME:BST
DTSTART:20190331T010000
END:DAYLIGHT
BEGIN:STANDARD
TZOFFSETFROM:+0100
TZOFFSETTO:+0000
TZNAME:GMT
DTSTART:20191027T010000
END:STANDARD
END:VTIMEZONE
BEGIN:VEVENT
DTSTART;TZID=Europe/London:20191230T100000
DTEND;TZID=Europe/London:20191231T230000
DTSTAMP:20260423T072348
CREATED:20200118T152304Z
LAST-MODIFIED:20200123T164528Z
UID:5567-1577700000-1577833200@www.soundsofafrica.org
SUMMARY:AFROPUNK Joburg in South Africa
DESCRIPTION:AFROPUNK Joburg in South AfricaA trend-setting group of people interested in a different sound of Afrobeats music known as AFROPUNK will be showcasing at AFROPUNK Joburg in South Africa. \nThis collective group of people or individual are unique and look unique in their style and sound. They define their culture through music unapologetically within their race. \nThese are going to be weekendlong celebrations of blackness from all over the continent. Already\, they have been to Paris\, London and now\, they are in Johannesburg\, South Africa. \nThe eclectic sounding waves of several artists such as Solange\, Miguel\, Masego and many more. Also including surprise performances from Nigerian/ UK artist Burnaboy and home grown artist based in South African\, Sjava Indlalifa. \nBasically\, this event will be filled with people that dare to be different and are drawn together in the spirit of celebrating Black and Black culture. \nDates for this event are the 30th and 31st December 2019. This event is not for the faint hearted and will be over the top just as fans and followers like it\, from style to looks to music. \nPurchase your tickets now to become part of this exquite site and experience. \nFor more information and <a href=’https://afropunk.com/festival/joburg/tickets/’><strong>tickets</strong></a>\, visit this website link: https://afropunk.com/festival/joburg/tickets/ \nLastly\, stay up to date with all you need to know about African music at <strong><a href=’http://www.soundsofafrica.org’>Sounds of Africa</a></strong>
URL:https://www.soundsofafrica.org/event/afropunk-joburg-in-south-africa-2/
LOCATION:Constitution Hill\, Braampark\, Johannesburg\, South Africa\, Johannesburg\, South Africa
CATEGORIES:concert,festival
ATTACH;FMTTYPE=image/png:https://www.soundsofafrica.org/wp-content/uploads/2019/12/images.png
END:VEVENT
END:VCALENDAR