BEGIN:VCALENDAR
VERSION:2.0
PRODID:-//Sounds of Africa - ECPv5.3.2.1//NONSGML v1.0//EN
CALSCALE:GREGORIAN
METHOD:PUBLISH
X-WR-CALNAME:Sounds of Africa
X-ORIGINAL-URL:https://www.soundsofafrica.org
X-WR-CALDESC:Events for Sounds of Africa
BEGIN:VTIMEZONE
TZID:Europe/London
BEGIN:DAYLIGHT
TZOFFSETFROM:+0000
TZOFFSETTO:+0100
TZNAME:BST
DTSTART:20190331T010000
END:DAYLIGHT
BEGIN:STANDARD
TZOFFSETFROM:+0100
TZOFFSETTO:+0000
TZNAME:GMT
DTSTART:20191027T010000
END:STANDARD
END:VTIMEZONE
BEGIN:VEVENT
DTSTART;TZID=Europe/London:20191227T000000
DTEND;TZID=Europe/London:20191227T000000
DTSTAMP:20260419T233137
CREATED:20200118T152304Z
LAST-MODIFIED:20200123T170137Z
UID:5565-1577404800-1577404800@www.soundsofafrica.org
SUMMARY:Afronation Ghana
DESCRIPTION:Afronation held its first event in Europe (The Algarve Portimao\, Portugal). It was billed as the first festival to celebrate the African Diaspora.Moreover\, 20\,000 people of African descent gathered to enjoy four days of live music from Africa\, Caribbean\, Europe and US artists. \nThe event was undeniably a friendly community atmosphere\, family spirited and oneness among the fans. \nFurthermore\, Afronation has announced its biggest Urban Music Beach festivals second installment in Ghana. It will be held at Laboma Beach\, Accra Ghana. \nClick to Purchase your TICKETS
URL:https://www.soundsofafrica.org/event/afronation-ghana-2/
LOCATION:Laboma Beach Resort\, La Teshie Road\, Opposite Teshie Rasta Junction Accra\, Ghana
CATEGORIES:festival
ATTACH;FMTTYPE=image/png:https://www.soundsofafrica.org/wp-content/uploads/2019/10/afronation-ghana.png
ORGANIZER;CN="Afronation":MAILTO:hello@afronation.com
END:VEVENT
END:VCALENDAR