BEGIN:VCALENDAR
VERSION:2.0
PRODID:-//Sounds of Africa - ECPv5.3.2.1//NONSGML v1.0//EN
CALSCALE:GREGORIAN
METHOD:PUBLISH
X-WR-CALNAME:Sounds of Africa
X-ORIGINAL-URL:https://www.soundsofafrica.org
X-WR-CALDESC:Events for Sounds of Africa
BEGIN:VTIMEZONE
TZID:Europe/London
BEGIN:DAYLIGHT
TZOFFSETFROM:+0000
TZOFFSETTO:+0100
TZNAME:BST
DTSTART:20190331T010000
END:DAYLIGHT
BEGIN:STANDARD
TZOFFSETFROM:+0100
TZOFFSETTO:+0000
TZNAME:GMT
DTSTART:20191027T010000
END:STANDARD
END:VTIMEZONE
BEGIN:VEVENT
DTSTART;TZID=Europe/London:20191228T190000
DTEND;TZID=Europe/London:20191229T000000
DTSTAMP:20260420T051242
CREATED:20200118T152301Z
LAST-MODIFIED:20200123T164831Z
UID:5564-1577559600-1577577600@www.soundsofafrica.org
SUMMARY:Afrochella 2019
DESCRIPTION:<p class=’desktop-sec’>Afrochella is a celebration of Africa’s diverse culture and the vibrant work of African creatives &amp; entrepreneurs.</p><p class=’desktop-sec’>The festival is designed to elevate and highlight the thrilling and thriving millennial talent in Africa by introducing an interactive event that teaches.</p><p class=’desktop-sec’>futhermore\, explains and explores various culture with a pioneering approach.</p>\n<p class=’desktop-sec’>Moreover\, Afrochellans will experience art and creative activations from the continent; celebrate African music\, and taste premium cultured cuisine.</p>\nAfrochella was conceptualised 2015 by Abdul Karim Abdullah. \nClick to Purchase tickets to <a href=’https://www.afrochella.com/tickets’>Afrochella Here</a>\n<p class=’desktop-sec’></p>
URL:https://www.soundsofafrica.org/event/afrochella-2019/
LOCATION:El Wak Stadium\, Accra\, Ghana\, Accra\, Ghana
CATEGORIES:afrobeats,concert
ATTACH;FMTTYPE=image/jpeg:https://www.soundsofafrica.org/wp-content/uploads/2019/10/640x640.jpg
ORGANIZER;CN="Afronation":MAILTO:hello@afronation.com
END:VEVENT
END:VCALENDAR