BEGIN:VCALENDAR
VERSION:2.0
PRODID:-//Sounds of Africa - ECPv5.3.2.1//NONSGML v1.0//EN
CALSCALE:GREGORIAN
METHOD:PUBLISH
X-WR-CALNAME:Sounds of Africa
X-ORIGINAL-URL:https://www.soundsofafrica.org
X-WR-CALDESC:Events for Sounds of Africa
BEGIN:VTIMEZONE
TZID:Europe/London
BEGIN:DAYLIGHT
TZOFFSETFROM:+0000
TZOFFSETTO:+0100
TZNAME:BST
DTSTART:20190331T010000
END:DAYLIGHT
BEGIN:STANDARD
TZOFFSETFROM:+0100
TZOFFSETTO:+0000
TZNAME:GMT
DTSTART:20191027T010000
END:STANDARD
END:VTIMEZONE
BEGIN:VEVENT
DTSTART;TZID=Europe/London:20191018T210000
DTEND;TZID=Europe/London:20191019T030000
DTSTAMP:20260420T044715
CREATED:20200118T152301Z
LAST-MODIFIED:20200123T173632Z
UID:5563-1571432400-1571454000@www.soundsofafrica.org
SUMMARY:Afrobeats in the City
DESCRIPTION:Afrobeats in the CityEvery Friday and Saturday for the hottest afrobeats club nights in the City of London. Their highly-anticipated nights have played host to celebrities such as Wizkid\, Davido\, Yung Bxne\, Fuse ODG\, Eddie Kadi\, Lynxxx\, Sona\, Mr Eazi\, Wande Coal\, Becca\, DJ Spinall\, Yemi Rush and many more. \nOur music policy is curated by some of London’s brightest afrobeat disc jockeys such as DJ SoGood\, DJ Bibi\, DJ Sean\, DJ Mercedes to name a few. \nAFROBEATS – HIPHOP – BASHMENT – GARAGE – OLD SCH &amp; more \n11pm – 5am (last entry 2am)\nNO ID NO ENTRY\n18+ \nPurchase your TICKETS HERE
URL:https://www.soundsofafrica.org/event/afrobeats-in-the-city-3/
LOCATION:CLUB AQUARIUM\, CLUB AQUARIUM 256 - 260 Old Street\, London\, EC1V 9DD\, United Kingdom
CATEGORIES:concert,festival
ATTACH;FMTTYPE=image/jpeg:https://www.soundsofafrica.org/wp-content/uploads/2019/10/afrobeats-in-the-city.jpg
END:VEVENT
END:VCALENDAR