BEGIN:VCALENDAR
VERSION:2.0
PRODID:-//Sounds of Africa - ECPv5.3.2.1//NONSGML v1.0//EN
CALSCALE:GREGORIAN
METHOD:PUBLISH
X-WR-CALNAME:Sounds of Africa
X-ORIGINAL-URL:https://www.soundsofafrica.org
X-WR-CALDESC:Events for Sounds of Africa
BEGIN:VTIMEZONE
TZID:Europe/London
BEGIN:DAYLIGHT
TZOFFSETFROM:+0000
TZOFFSETTO:+0100
TZNAME:BST
DTSTART:20200329T010000
END:DAYLIGHT
BEGIN:STANDARD
TZOFFSETFROM:+0100
TZOFFSETTO:+0000
TZNAME:GMT
DTSTART:20201025T010000
END:STANDARD
END:VTIMEZONE
BEGIN:VEVENT
DTSTART;TZID=Europe/London:20200125T000000
DTEND;TZID=Europe/London:20200126T235900
DTSTAMP:20260420T032743
CREATED:20200118T152301Z
LAST-MODIFIED:20200124T131824Z
UID:5561-1579910400-1580083140@www.soundsofafrica.org
SUMMARY:AFRO SOCA LOVE 2020
DESCRIPTION:AFRO SOCA LOVE 2020 \nAfro soca love aims to unite\, strengthening Africa and its diaspora through music\, art\, culture using the facets of Caribbean Carnival and African culture and its coming to London. \nIt is a festival filled with fun cultural activities to build love between cultural boundaries. \nAfrosocalove is one of the largest festivals from North America and it has been in over 56 cities so far. \nMoreover\, going by social media platforms and the history of this event\,  its an amazing turn out event which fans look forward to. \nDates:\n25th January\, 2020\, 11pm – 26th January\, 2020\, 3am at Oval Space\, Oval\, London. \nTo be a part of this amazing 2 days experience\, purchase (AFRO SOCA LOVE 2020) tickets at https://afrosocalove.com/tour/london \nLastly\, stay up to date with all you need to know about African music at SOUNDS OF AFRICA right here. \n 
URL:https://www.soundsofafrica.org/event/afro-soca-love-2020-2/
LOCATION:OVAL SPACE\, 29\, 32 The Oval\, London\, London\, E2 9DT\, United Kingdom
CATEGORIES:afrobeats,Clubbing Concert
ATTACH;FMTTYPE=image/png:https://www.soundsofafrica.org/wp-content/uploads/2020/01/afro-soca-love.png
END:VEVENT
END:VCALENDAR