BEGIN:VCALENDAR
VERSION:2.0
PRODID:-//Sounds of Africa - ECPv5.3.2.1//NONSGML v1.0//EN
CALSCALE:GREGORIAN
METHOD:PUBLISH
X-WR-CALNAME:Sounds of Africa
X-ORIGINAL-URL:https://www.soundsofafrica.org
X-WR-CALDESC:Events for Sounds of Africa
BEGIN:VTIMEZONE
TZID:Europe/London
BEGIN:DAYLIGHT
TZOFFSETFROM:+0000
TZOFFSETTO:+0100
TZNAME:BST
DTSTART:20190331T010000
END:DAYLIGHT
BEGIN:STANDARD
TZOFFSETFROM:+0100
TZOFFSETTO:+0000
TZNAME:GMT
DTSTART:20191027T010000
END:STANDARD
END:VTIMEZONE
BEGIN:VEVENT
DTSTART;TZID=Europe/London:20191110T190000
DTEND;TZID=Europe/London:20191110T190000
DTSTAMP:20260420T071813
CREATED:20200123T172559Z
LAST-MODIFIED:20200123T172957Z
UID:5810-1573412400-1573412400@www.soundsofafrica.org
SUMMARY:African Giant Tour
DESCRIPTION:2019 has been a good year for Burnaboy\, with the release of his successful new album “African Giant”.Furthermore\, the 2019 BET international Act award – winner\, Burnaboy returns to the UK for his African Giant Tour. His concerts are always intriguing and he’ll performing new materials from his new album. \nClick to Purchase your tickets HERE
URL:https://www.soundsofafrica.org/event/african-giant-tour-birmingham/
LOCATION:O2 Academy Birmingham\, 16-18 Horse Fair\, Birmingham B1 1DB\, Birmingham\, B1 1DB\, United Kingdom
CATEGORIES:afrobeats,concert
ATTACH;FMTTYPE=image/jpeg:https://www.soundsofafrica.org/wp-content/uploads/2019/10/burna-boy-african-giant-tour.jpg
END:VEVENT
END:VCALENDAR