BEGIN:VCALENDAR
VERSION:2.0
PRODID:-//Sounds of Africa - ECPv5.3.2.1//NONSGML v1.0//EN
CALSCALE:GREGORIAN
METHOD:PUBLISH
X-WR-CALNAME:Sounds of Africa
X-ORIGINAL-URL:https://www.soundsofafrica.org
X-WR-CALDESC:Events for Sounds of Africa
BEGIN:VTIMEZONE
TZID:Europe/London
BEGIN:DAYLIGHT
TZOFFSETFROM:+0000
TZOFFSETTO:+0100
TZNAME:BST
DTSTART:20190331T010000
END:DAYLIGHT
BEGIN:STANDARD
TZOFFSETFROM:+0100
TZOFFSETTO:+0000
TZNAME:GMT
DTSTART:20191027T010000
END:STANDARD
END:VTIMEZONE
BEGIN:VEVENT
DTSTART;TZID=Europe/London:20191228T180000
DTEND;TZID=Europe/London:20191228T230000
DTSTAMP:20260420T032729
CREATED:20200123T181522Z
LAST-MODIFIED:20200123T181522Z
UID:5826-1577556000-1577574000@www.soundsofafrica.org
SUMMARY:2baba #20YearsAKing concert
DESCRIPTION:Legendary music icon 2baba set to make an incredible mark in the history of live performance in Nigeria with ‘20years a king concert’\, which will be held on Saturday\, December 28 2019 at EKO Hotel Convention Centre\, Victoria Island\, Lagos.
URL:https://www.soundsofafrica.org/event/2baba-20yearsaking-concert-2/
LOCATION:Eko Convention Centre\, Eko Convention Centre\, Victoria Island\, Lagos\, Nigeria.\, Lagos\, Nigeria
ATTACH;FMTTYPE=image/jpeg:https://www.soundsofafrica.org/wp-content/uploads/2019/10/2baba_20yearsaking-1.jpeg
END:VEVENT
END:VCALENDAR